BEGIN:VCALENDAR
VERSION:2.0
PRODID:-//St Joseph Springfield - ECPv6.15.20//NONSGML v1.0//EN
CALSCALE:GREGORIAN
METHOD:PUBLISH
X-WR-CALNAME:St Joseph Springfield
X-ORIGINAL-URL:https://stjosephspringfield.org
X-WR-CALDESC:Events for St Joseph Springfield
REFRESH-INTERVAL;VALUE=DURATION:PT1H
X-Robots-Tag:noindex
X-PUBLISHED-TTL:PT1H
BEGIN:VTIMEZONE
TZID:America/Chicago
BEGIN:DAYLIGHT
TZOFFSETFROM:-0600
TZOFFSETTO:-0500
TZNAME:CDT
DTSTART:20250309T080000
END:DAYLIGHT
BEGIN:STANDARD
TZOFFSETFROM:-0500
TZOFFSETTO:-0600
TZNAME:CST
DTSTART:20251102T070000
END:STANDARD
BEGIN:DAYLIGHT
TZOFFSETFROM:-0600
TZOFFSETTO:-0500
TZNAME:CDT
DTSTART:20260308T080000
END:DAYLIGHT
BEGIN:STANDARD
TZOFFSETFROM:-0500
TZOFFSETTO:-0600
TZNAME:CST
DTSTART:20261101T070000
END:STANDARD
BEGIN:DAYLIGHT
TZOFFSETFROM:-0600
TZOFFSETTO:-0500
TZNAME:CDT
DTSTART:20270314T080000
END:DAYLIGHT
BEGIN:STANDARD
TZOFFSETFROM:-0500
TZOFFSETTO:-0600
TZNAME:CST
DTSTART:20271107T070000
END:STANDARD
END:VTIMEZONE
BEGIN:VEVENT
DTSTART;TZID=America/Chicago:20260425T170000
DTEND;TZID=America/Chicago:20260425T180000
DTSTAMP:20260420T075929
CREATED:20260319T111209Z
LAST-MODIFIED:20260327T182236Z
UID:10005290-1777136400-1777140000@stjosephspringfield.org
SUMMARY:Mass
DESCRIPTION:Confessions beforehand from 4:15-5pm.
URL:https://stjosephspringfield.org/event/mass/2026-04-25/
END:VEVENT
BEGIN:VEVENT
DTSTART;TZID=America/Chicago:20260502T170000
DTEND;TZID=America/Chicago:20260502T180000
DTSTAMP:20260420T075929
CREATED:20260319T111209Z
LAST-MODIFIED:20260327T182236Z
UID:10005291-1777741200-1777744800@stjosephspringfield.org
SUMMARY:Mass
DESCRIPTION:Confessions beforehand from 4:15-5pm.
URL:https://stjosephspringfield.org/event/mass/2026-05-02/
END:VEVENT
BEGIN:VEVENT
DTSTART;TZID=America/Chicago:20260509T170000
DTEND;TZID=America/Chicago:20260509T180000
DTSTAMP:20260420T075929
CREATED:20260319T111209Z
LAST-MODIFIED:20260327T182236Z
UID:10005292-1778346000-1778349600@stjosephspringfield.org
SUMMARY:Mass
DESCRIPTION:Confessions beforehand from 4:15-5pm.
URL:https://stjosephspringfield.org/event/mass/2026-05-09/
END:VEVENT
BEGIN:VEVENT
DTSTART;TZID=America/Chicago:20260516T170000
DTEND;TZID=America/Chicago:20260516T180000
DTSTAMP:20260420T075929
CREATED:20260319T111209Z
LAST-MODIFIED:20260327T182236Z
UID:10005293-1778950800-1778954400@stjosephspringfield.org
SUMMARY:Mass
DESCRIPTION:Confessions beforehand from 4:15-5pm.
URL:https://stjosephspringfield.org/event/mass/2026-05-16/
END:VEVENT
BEGIN:VEVENT
DTSTART;TZID=America/Chicago:20260523T170000
DTEND;TZID=America/Chicago:20260523T180000
DTSTAMP:20260420T075929
CREATED:20260319T111209Z
LAST-MODIFIED:20260327T182236Z
UID:10005294-1779555600-1779559200@stjosephspringfield.org
SUMMARY:Mass
DESCRIPTION:Confessions beforehand from 4:15-5pm.
URL:https://stjosephspringfield.org/event/mass/2026-05-23/
END:VEVENT
BEGIN:VEVENT
DTSTART;TZID=America/Chicago:20260530T170000
DTEND;TZID=America/Chicago:20260530T180000
DTSTAMP:20260420T075929
CREATED:20260319T111209Z
LAST-MODIFIED:20260327T182236Z
UID:10005295-1780160400-1780164000@stjosephspringfield.org
SUMMARY:Mass
DESCRIPTION:Confessions beforehand from 4:15-5pm.
URL:https://stjosephspringfield.org/event/mass/2026-05-30/
END:VEVENT
BEGIN:VEVENT
DTSTART;TZID=America/Chicago:20260606T170000
DTEND;TZID=America/Chicago:20260606T180000
DTSTAMP:20260420T075929
CREATED:20260319T111209Z
LAST-MODIFIED:20260327T182236Z
UID:10005296-1780765200-1780768800@stjosephspringfield.org
SUMMARY:Mass
DESCRIPTION:Confessions beforehand from 4:15-5pm.
URL:https://stjosephspringfield.org/event/mass/2026-06-06/
END:VEVENT
BEGIN:VEVENT
DTSTART;TZID=America/Chicago:20260613T170000
DTEND;TZID=America/Chicago:20260613T180000
DTSTAMP:20260420T075929
CREATED:20260319T111209Z
LAST-MODIFIED:20260327T182236Z
UID:10005297-1781370000-1781373600@stjosephspringfield.org
SUMMARY:Mass
DESCRIPTION:Confessions beforehand from 4:15-5pm.
URL:https://stjosephspringfield.org/event/mass/2026-06-13/
END:VEVENT
BEGIN:VEVENT
DTSTART;TZID=America/Chicago:20260620T170000
DTEND;TZID=America/Chicago:20260620T180000
DTSTAMP:20260420T075929
CREATED:20260319T111209Z
LAST-MODIFIED:20260327T182236Z
UID:10005298-1781974800-1781978400@stjosephspringfield.org
SUMMARY:Mass
DESCRIPTION:Confessions beforehand from 4:15-5pm.
URL:https://stjosephspringfield.org/event/mass/2026-06-20/
END:VEVENT
BEGIN:VEVENT
DTSTART;TZID=America/Chicago:20260627T170000
DTEND;TZID=America/Chicago:20260627T180000
DTSTAMP:20260420T075929
CREATED:20260319T111209Z
LAST-MODIFIED:20260327T182236Z
UID:10005299-1782579600-1782583200@stjosephspringfield.org
SUMMARY:Mass
DESCRIPTION:Confessions beforehand from 4:15-5pm.
URL:https://stjosephspringfield.org/event/mass/2026-06-27/
END:VEVENT
BEGIN:VEVENT
DTSTART;TZID=America/Chicago:20260704T170000
DTEND;TZID=America/Chicago:20260704T180000
DTSTAMP:20260420T075929
CREATED:20260319T111209Z
LAST-MODIFIED:20260327T182236Z
UID:10005300-1783184400-1783188000@stjosephspringfield.org
SUMMARY:Mass
DESCRIPTION:Confessions beforehand from 4:15-5pm.
URL:https://stjosephspringfield.org/event/mass/2026-07-04/
END:VEVENT
BEGIN:VEVENT
DTSTART;TZID=America/Chicago:20260711T170000
DTEND;TZID=America/Chicago:20260711T180000
DTSTAMP:20260420T075929
CREATED:20260319T111209Z
LAST-MODIFIED:20260327T182236Z
UID:10005301-1783789200-1783792800@stjosephspringfield.org
SUMMARY:Mass
DESCRIPTION:Confessions beforehand from 4:15-5pm.
URL:https://stjosephspringfield.org/event/mass/2026-07-11/
END:VEVENT
BEGIN:VEVENT
DTSTART;TZID=America/Chicago:20260718T170000
DTEND;TZID=America/Chicago:20260718T180000
DTSTAMP:20260420T075929
CREATED:20260319T111209Z
LAST-MODIFIED:20260327T182236Z
UID:10005302-1784394000-1784397600@stjosephspringfield.org
SUMMARY:Mass
DESCRIPTION:Confessions beforehand from 4:15-5pm.
URL:https://stjosephspringfield.org/event/mass/2026-07-18/
END:VEVENT
BEGIN:VEVENT
DTSTART;TZID=America/Chicago:20260725T170000
DTEND;TZID=America/Chicago:20260725T180000
DTSTAMP:20260420T075929
CREATED:20260319T111209Z
LAST-MODIFIED:20260327T182236Z
UID:10005303-1784998800-1785002400@stjosephspringfield.org
SUMMARY:Mass
DESCRIPTION:Confessions beforehand from 4:15-5pm.
URL:https://stjosephspringfield.org/event/mass/2026-07-25/
END:VEVENT
BEGIN:VEVENT
DTSTART;TZID=America/Chicago:20260801T170000
DTEND;TZID=America/Chicago:20260801T180000
DTSTAMP:20260420T075929
CREATED:20260319T111209Z
LAST-MODIFIED:20260327T182236Z
UID:10005304-1785603600-1785607200@stjosephspringfield.org
SUMMARY:Mass
DESCRIPTION:Confessions beforehand from 4:15-5pm.
URL:https://stjosephspringfield.org/event/mass/2026-08-01/
END:VEVENT
BEGIN:VEVENT
DTSTART;TZID=America/Chicago:20260808T170000
DTEND;TZID=America/Chicago:20260808T180000
DTSTAMP:20260420T075929
CREATED:20260319T111209Z
LAST-MODIFIED:20260327T182236Z
UID:10005305-1786208400-1786212000@stjosephspringfield.org
SUMMARY:Mass
DESCRIPTION:Confessions beforehand from 4:15-5pm.
URL:https://stjosephspringfield.org/event/mass/2026-08-08/
END:VEVENT
BEGIN:VEVENT
DTSTART;TZID=America/Chicago:20260815T170000
DTEND;TZID=America/Chicago:20260815T180000
DTSTAMP:20260420T075929
CREATED:20260319T111209Z
LAST-MODIFIED:20260327T182236Z
UID:10005306-1786813200-1786816800@stjosephspringfield.org
SUMMARY:Mass
DESCRIPTION:Confessions beforehand from 4:15-5pm.
URL:https://stjosephspringfield.org/event/mass/2026-08-15/
END:VEVENT
BEGIN:VEVENT
DTSTART;TZID=America/Chicago:20260822T170000
DTEND;TZID=America/Chicago:20260822T180000
DTSTAMP:20260420T075929
CREATED:20260319T111209Z
LAST-MODIFIED:20260327T182236Z
UID:10005307-1787418000-1787421600@stjosephspringfield.org
SUMMARY:Mass
DESCRIPTION:Confessions beforehand from 4:15-5pm.
URL:https://stjosephspringfield.org/event/mass/2026-08-22/
END:VEVENT
BEGIN:VEVENT
DTSTART;TZID=America/Chicago:20260829T170000
DTEND;TZID=America/Chicago:20260829T180000
DTSTAMP:20260420T075929
CREATED:20260319T111209Z
LAST-MODIFIED:20260327T182236Z
UID:10005308-1788022800-1788026400@stjosephspringfield.org
SUMMARY:Mass
DESCRIPTION:Confessions beforehand from 4:15-5pm.
URL:https://stjosephspringfield.org/event/mass/2026-08-29/
END:VEVENT
BEGIN:VEVENT
DTSTART;TZID=America/Chicago:20260905T170000
DTEND;TZID=America/Chicago:20260905T180000
DTSTAMP:20260420T075929
CREATED:20260319T111209Z
LAST-MODIFIED:20260327T182236Z
UID:10005309-1788627600-1788631200@stjosephspringfield.org
SUMMARY:Mass
DESCRIPTION:Confessions beforehand from 4:15-5pm.
URL:https://stjosephspringfield.org/event/mass/2026-09-05/
END:VEVENT
BEGIN:VEVENT
DTSTART;TZID=America/Chicago:20260912T170000
DTEND;TZID=America/Chicago:20260912T180000
DTSTAMP:20260420T075929
CREATED:20260319T111209Z
LAST-MODIFIED:20260327T182236Z
UID:10005310-1789232400-1789236000@stjosephspringfield.org
SUMMARY:Mass
DESCRIPTION:Confessions beforehand from 4:15-5pm.
URL:https://stjosephspringfield.org/event/mass/2026-09-12/
END:VEVENT
BEGIN:VEVENT
DTSTART;TZID=America/Chicago:20260919T170000
DTEND;TZID=America/Chicago:20260919T180000
DTSTAMP:20260420T075929
CREATED:20260319T111209Z
LAST-MODIFIED:20260327T182236Z
UID:10005311-1789837200-1789840800@stjosephspringfield.org
SUMMARY:Mass
DESCRIPTION:Confessions beforehand from 4:15-5pm.
URL:https://stjosephspringfield.org/event/mass/2026-09-19/
END:VEVENT
BEGIN:VEVENT
DTSTART;TZID=America/Chicago:20260926T170000
DTEND;TZID=America/Chicago:20260926T180000
DTSTAMP:20260420T075929
CREATED:20260319T111209Z
LAST-MODIFIED:20260327T182236Z
UID:10005312-1790442000-1790445600@stjosephspringfield.org
SUMMARY:Mass
DESCRIPTION:Confessions beforehand from 4:15-5pm.
URL:https://stjosephspringfield.org/event/mass/2026-09-26/
END:VEVENT
BEGIN:VEVENT
DTSTART;TZID=America/Chicago:20261003T170000
DTEND;TZID=America/Chicago:20261003T180000
DTSTAMP:20260420T075929
CREATED:20260319T111209Z
LAST-MODIFIED:20260327T182236Z
UID:10005313-1791046800-1791050400@stjosephspringfield.org
SUMMARY:Mass
DESCRIPTION:Confessions beforehand from 4:15-5pm.
URL:https://stjosephspringfield.org/event/mass/2026-10-03/
END:VEVENT
BEGIN:VEVENT
DTSTART;TZID=America/Chicago:20261010T170000
DTEND;TZID=America/Chicago:20261010T180000
DTSTAMP:20260420T075929
CREATED:20260319T111209Z
LAST-MODIFIED:20260327T182236Z
UID:10005314-1791651600-1791655200@stjosephspringfield.org
SUMMARY:Mass
DESCRIPTION:Confessions beforehand from 4:15-5pm.
URL:https://stjosephspringfield.org/event/mass/2026-10-10/
END:VEVENT
BEGIN:VEVENT
DTSTART;TZID=America/Chicago:20261017T170000
DTEND;TZID=America/Chicago:20261017T180000
DTSTAMP:20260420T075929
CREATED:20260319T111209Z
LAST-MODIFIED:20260327T182236Z
UID:10005315-1792256400-1792260000@stjosephspringfield.org
SUMMARY:Mass
DESCRIPTION:Confessions beforehand from 4:15-5pm.
URL:https://stjosephspringfield.org/event/mass/2026-10-17/
END:VEVENT
BEGIN:VEVENT
DTSTART;TZID=America/Chicago:20261024T170000
DTEND;TZID=America/Chicago:20261024T180000
DTSTAMP:20260420T075929
CREATED:20260319T111209Z
LAST-MODIFIED:20260327T182236Z
UID:10005316-1792861200-1792864800@stjosephspringfield.org
SUMMARY:Mass
DESCRIPTION:Confessions beforehand from 4:15-5pm.
URL:https://stjosephspringfield.org/event/mass/2026-10-24/
END:VEVENT
BEGIN:VEVENT
DTSTART;TZID=America/Chicago:20261031T170000
DTEND;TZID=America/Chicago:20261031T180000
DTSTAMP:20260420T075929
CREATED:20260319T111209Z
LAST-MODIFIED:20260327T182236Z
UID:10005317-1793466000-1793469600@stjosephspringfield.org
SUMMARY:Mass
DESCRIPTION:Confessions beforehand from 4:15-5pm.
URL:https://stjosephspringfield.org/event/mass/2026-10-31/
END:VEVENT
BEGIN:VEVENT
DTSTART;TZID=America/Chicago:20261107T170000
DTEND;TZID=America/Chicago:20261107T180000
DTSTAMP:20260420T075929
CREATED:20260319T111209Z
LAST-MODIFIED:20260327T182236Z
UID:10005318-1794070800-1794074400@stjosephspringfield.org
SUMMARY:Mass
DESCRIPTION:Confessions beforehand from 4:15-5pm.
URL:https://stjosephspringfield.org/event/mass/2026-11-07/
END:VEVENT
BEGIN:VEVENT
DTSTART;TZID=America/Chicago:20261114T170000
DTEND;TZID=America/Chicago:20261114T180000
DTSTAMP:20260420T075929
CREATED:20260319T111209Z
LAST-MODIFIED:20260327T182236Z
UID:10005319-1794675600-1794679200@stjosephspringfield.org
SUMMARY:Mass
DESCRIPTION:Confessions beforehand from 4:15-5pm.
URL:https://stjosephspringfield.org/event/mass/2026-11-14/
END:VEVENT
END:VCALENDAR