BEGIN:VCALENDAR
VERSION:2.0
PRODID:-//St Joseph Springfield - ECPv6.15.20//NONSGML v1.0//EN
CALSCALE:GREGORIAN
METHOD:PUBLISH
X-WR-CALNAME:St Joseph Springfield
X-ORIGINAL-URL:https://stjosephspringfield.org
X-WR-CALDESC:Events for St Joseph Springfield
REFRESH-INTERVAL;VALUE=DURATION:PT1H
X-Robots-Tag:noindex
X-PUBLISHED-TTL:PT1H
BEGIN:VTIMEZONE
TZID:America/Chicago
BEGIN:DAYLIGHT
TZOFFSETFROM:-0600
TZOFFSETTO:-0500
TZNAME:CDT
DTSTART:20250309T080000
END:DAYLIGHT
BEGIN:STANDARD
TZOFFSETFROM:-0500
TZOFFSETTO:-0600
TZNAME:CST
DTSTART:20251102T070000
END:STANDARD
BEGIN:DAYLIGHT
TZOFFSETFROM:-0600
TZOFFSETTO:-0500
TZNAME:CDT
DTSTART:20260308T080000
END:DAYLIGHT
BEGIN:STANDARD
TZOFFSETFROM:-0500
TZOFFSETTO:-0600
TZNAME:CST
DTSTART:20261101T070000
END:STANDARD
BEGIN:DAYLIGHT
TZOFFSETFROM:-0600
TZOFFSETTO:-0500
TZNAME:CDT
DTSTART:20270314T080000
END:DAYLIGHT
BEGIN:STANDARD
TZOFFSETFROM:-0500
TZOFFSETTO:-0600
TZNAME:CST
DTSTART:20271107T070000
END:STANDARD
BEGIN:DAYLIGHT
TZOFFSETFROM:-0600
TZOFFSETTO:-0500
TZNAME:CDT
DTSTART:20280312T080000
END:DAYLIGHT
BEGIN:STANDARD
TZOFFSETFROM:-0500
TZOFFSETTO:-0600
TZNAME:CST
DTSTART:20281105T070000
END:STANDARD
BEGIN:DAYLIGHT
TZOFFSETFROM:-0600
TZOFFSETTO:-0500
TZNAME:CDT
DTSTART:20290311T080000
END:DAYLIGHT
BEGIN:STANDARD
TZOFFSETFROM:-0500
TZOFFSETTO:-0600
TZNAME:CST
DTSTART:20291104T070000
END:STANDARD
END:VTIMEZONE
BEGIN:VEVENT
DTSTART;TZID=America/Chicago:20260501T140000
DTEND;TZID=America/Chicago:20260501T150000
DTSTAMP:20260424T065327
CREATED:20250127T200528Z
LAST-MODIFIED:20260327T180309Z
UID:10006416-1777644000-1777647600@stjosephspringfield.org
SUMMARY:Anointing Mass
DESCRIPTION:
URL:https://stjosephspringfield.org/event/anointing-mass-4/2026-05-01/
END:VEVENT
BEGIN:VEVENT
DTSTART;TZID=America/Chicago:20260605T140000
DTEND;TZID=America/Chicago:20260605T150000
DTSTAMP:20260424T065327
CREATED:20250127T200528Z
LAST-MODIFIED:20260327T180309Z
UID:10006417-1780668000-1780671600@stjosephspringfield.org
SUMMARY:Anointing Mass
DESCRIPTION:
URL:https://stjosephspringfield.org/event/anointing-mass-4/2026-06-05/
END:VEVENT
BEGIN:VEVENT
DTSTART;TZID=America/Chicago:20260703T140000
DTEND;TZID=America/Chicago:20260703T150000
DTSTAMP:20260424T065327
CREATED:20250127T200528Z
LAST-MODIFIED:20260327T180309Z
UID:10006418-1783087200-1783090800@stjosephspringfield.org
SUMMARY:Anointing Mass
DESCRIPTION:
URL:https://stjosephspringfield.org/event/anointing-mass-4/2026-07-03/
END:VEVENT
BEGIN:VEVENT
DTSTART;TZID=America/Chicago:20260807T140000
DTEND;TZID=America/Chicago:20260807T150000
DTSTAMP:20260424T065327
CREATED:20250127T200528Z
LAST-MODIFIED:20260327T180309Z
UID:10006419-1786111200-1786114800@stjosephspringfield.org
SUMMARY:Anointing Mass
DESCRIPTION:
URL:https://stjosephspringfield.org/event/anointing-mass-4/2026-08-07/
END:VEVENT
BEGIN:VEVENT
DTSTART;TZID=America/Chicago:20260904T140000
DTEND;TZID=America/Chicago:20260904T150000
DTSTAMP:20260424T065327
CREATED:20250127T200528Z
LAST-MODIFIED:20260327T180309Z
UID:10006420-1788530400-1788534000@stjosephspringfield.org
SUMMARY:Anointing Mass
DESCRIPTION:
URL:https://stjosephspringfield.org/event/anointing-mass-4/2026-09-04/
END:VEVENT
BEGIN:VEVENT
DTSTART;TZID=America/Chicago:20261002T140000
DTEND;TZID=America/Chicago:20261002T150000
DTSTAMP:20260424T065327
CREATED:20250127T200528Z
LAST-MODIFIED:20260327T180309Z
UID:10006421-1790949600-1790953200@stjosephspringfield.org
SUMMARY:Anointing Mass
DESCRIPTION:
URL:https://stjosephspringfield.org/event/anointing-mass-4/2026-10-02/
END:VEVENT
BEGIN:VEVENT
DTSTART;TZID=America/Chicago:20261106T140000
DTEND;TZID=America/Chicago:20261106T150000
DTSTAMP:20260424T065327
CREATED:20250127T200528Z
LAST-MODIFIED:20260327T180309Z
UID:10006422-1793973600-1793977200@stjosephspringfield.org
SUMMARY:Anointing Mass
DESCRIPTION:
URL:https://stjosephspringfield.org/event/anointing-mass-4/2026-11-06/
END:VEVENT
BEGIN:VEVENT
DTSTART;TZID=America/Chicago:20261204T140000
DTEND;TZID=America/Chicago:20261204T150000
DTSTAMP:20260424T065327
CREATED:20250127T200528Z
LAST-MODIFIED:20260327T180309Z
UID:10006423-1796392800-1796396400@stjosephspringfield.org
SUMMARY:Anointing Mass
DESCRIPTION:
URL:https://stjosephspringfield.org/event/anointing-mass-4/2026-12-04/
END:VEVENT
BEGIN:VEVENT
DTSTART;TZID=America/Chicago:20270101T140000
DTEND;TZID=America/Chicago:20270101T150000
DTSTAMP:20260424T065327
CREATED:20250127T200528Z
LAST-MODIFIED:20260327T180309Z
UID:10006424-1798812000-1798815600@stjosephspringfield.org
SUMMARY:Anointing Mass
DESCRIPTION:
URL:https://stjosephspringfield.org/event/anointing-mass-4/2027-01-01/
END:VEVENT
BEGIN:VEVENT
DTSTART;TZID=America/Chicago:20270205T140000
DTEND;TZID=America/Chicago:20270205T150000
DTSTAMP:20260424T065327
CREATED:20250127T200528Z
LAST-MODIFIED:20260327T180309Z
UID:10006425-1801836000-1801839600@stjosephspringfield.org
SUMMARY:Anointing Mass
DESCRIPTION:
URL:https://stjosephspringfield.org/event/anointing-mass-4/2027-02-05/
END:VEVENT
BEGIN:VEVENT
DTSTART;TZID=America/Chicago:20270305T140000
DTEND;TZID=America/Chicago:20270305T150000
DTSTAMP:20260424T065327
CREATED:20250127T200528Z
LAST-MODIFIED:20260327T180309Z
UID:10006426-1804255200-1804258800@stjosephspringfield.org
SUMMARY:Anointing Mass
DESCRIPTION:
URL:https://stjosephspringfield.org/event/anointing-mass-4/2027-03-05/
END:VEVENT
BEGIN:VEVENT
DTSTART;TZID=America/Chicago:20270402T140000
DTEND;TZID=America/Chicago:20270402T150000
DTSTAMP:20260424T065327
CREATED:20250127T200528Z
LAST-MODIFIED:20260327T180309Z
UID:10006427-1806674400-1806678000@stjosephspringfield.org
SUMMARY:Anointing Mass
DESCRIPTION:
URL:https://stjosephspringfield.org/event/anointing-mass-4/2027-04-02/
END:VEVENT
BEGIN:VEVENT
DTSTART;TZID=America/Chicago:20270507T140000
DTEND;TZID=America/Chicago:20270507T150000
DTSTAMP:20260424T065327
CREATED:20250127T200528Z
LAST-MODIFIED:20260327T180309Z
UID:10006428-1809698400-1809702000@stjosephspringfield.org
SUMMARY:Anointing Mass
DESCRIPTION:
URL:https://stjosephspringfield.org/event/anointing-mass-4/2027-05-07/
END:VEVENT
BEGIN:VEVENT
DTSTART;TZID=America/Chicago:20270604T140000
DTEND;TZID=America/Chicago:20270604T150000
DTSTAMP:20260424T065327
CREATED:20250127T200528Z
LAST-MODIFIED:20260327T180309Z
UID:10006429-1812117600-1812121200@stjosephspringfield.org
SUMMARY:Anointing Mass
DESCRIPTION:
URL:https://stjosephspringfield.org/event/anointing-mass-4/2027-06-04/
END:VEVENT
BEGIN:VEVENT
DTSTART;TZID=America/Chicago:20270702T140000
DTEND;TZID=America/Chicago:20270702T150000
DTSTAMP:20260424T065327
CREATED:20250127T200528Z
LAST-MODIFIED:20260327T180309Z
UID:10006430-1814536800-1814540400@stjosephspringfield.org
SUMMARY:Anointing Mass
DESCRIPTION:
URL:https://stjosephspringfield.org/event/anointing-mass-4/2027-07-02/
END:VEVENT
BEGIN:VEVENT
DTSTART;TZID=America/Chicago:20270806T140000
DTEND;TZID=America/Chicago:20270806T150000
DTSTAMP:20260424T065327
CREATED:20250127T200528Z
LAST-MODIFIED:20260327T180309Z
UID:10006431-1817560800-1817564400@stjosephspringfield.org
SUMMARY:Anointing Mass
DESCRIPTION:
URL:https://stjosephspringfield.org/event/anointing-mass-4/2027-08-06/
END:VEVENT
BEGIN:VEVENT
DTSTART;TZID=America/Chicago:20270903T140000
DTEND;TZID=America/Chicago:20270903T150000
DTSTAMP:20260424T065327
CREATED:20250127T200528Z
LAST-MODIFIED:20260327T180309Z
UID:10006432-1819980000-1819983600@stjosephspringfield.org
SUMMARY:Anointing Mass
DESCRIPTION:
URL:https://stjosephspringfield.org/event/anointing-mass-4/2027-09-03/
END:VEVENT
BEGIN:VEVENT
DTSTART;TZID=America/Chicago:20271001T140000
DTEND;TZID=America/Chicago:20271001T150000
DTSTAMP:20260424T065327
CREATED:20250127T200528Z
LAST-MODIFIED:20260327T180309Z
UID:10006433-1822399200-1822402800@stjosephspringfield.org
SUMMARY:Anointing Mass
DESCRIPTION:
URL:https://stjosephspringfield.org/event/anointing-mass-4/2027-10-01/
END:VEVENT
BEGIN:VEVENT
DTSTART;TZID=America/Chicago:20271105T140000
DTEND;TZID=America/Chicago:20271105T150000
DTSTAMP:20260424T065327
CREATED:20250127T200528Z
LAST-MODIFIED:20260327T180309Z
UID:10006434-1825423200-1825426800@stjosephspringfield.org
SUMMARY:Anointing Mass
DESCRIPTION:
URL:https://stjosephspringfield.org/event/anointing-mass-4/2027-11-05/
END:VEVENT
BEGIN:VEVENT
DTSTART;TZID=America/Chicago:20271203T140000
DTEND;TZID=America/Chicago:20271203T150000
DTSTAMP:20260424T065327
CREATED:20250127T200528Z
LAST-MODIFIED:20260327T180309Z
UID:10006435-1827842400-1827846000@stjosephspringfield.org
SUMMARY:Anointing Mass
DESCRIPTION:
URL:https://stjosephspringfield.org/event/anointing-mass-4/2027-12-03/
END:VEVENT
BEGIN:VEVENT
DTSTART;TZID=America/Chicago:20280107T140000
DTEND;TZID=America/Chicago:20280107T150000
DTSTAMP:20260424T065327
CREATED:20250127T200528Z
LAST-MODIFIED:20260327T180309Z
UID:10006436-1830866400-1830870000@stjosephspringfield.org
SUMMARY:Anointing Mass
DESCRIPTION:
URL:https://stjosephspringfield.org/event/anointing-mass-4/2028-01-07/
END:VEVENT
BEGIN:VEVENT
DTSTART;TZID=America/Chicago:20280204T140000
DTEND;TZID=America/Chicago:20280204T150000
DTSTAMP:20260424T065327
CREATED:20250127T200528Z
LAST-MODIFIED:20260327T180309Z
UID:10006437-1833285600-1833289200@stjosephspringfield.org
SUMMARY:Anointing Mass
DESCRIPTION:
URL:https://stjosephspringfield.org/event/anointing-mass-4/2028-02-04/
END:VEVENT
BEGIN:VEVENT
DTSTART;TZID=America/Chicago:20280303T140000
DTEND;TZID=America/Chicago:20280303T150000
DTSTAMP:20260424T065327
CREATED:20250127T200528Z
LAST-MODIFIED:20260327T180309Z
UID:10006438-1835704800-1835708400@stjosephspringfield.org
SUMMARY:Anointing Mass
DESCRIPTION:
URL:https://stjosephspringfield.org/event/anointing-mass-4/2028-03-03/
END:VEVENT
BEGIN:VEVENT
DTSTART;TZID=America/Chicago:20280407T140000
DTEND;TZID=America/Chicago:20280407T150000
DTSTAMP:20260424T065327
CREATED:20250127T200528Z
LAST-MODIFIED:20260327T180309Z
UID:10006439-1838728800-1838732400@stjosephspringfield.org
SUMMARY:Anointing Mass
DESCRIPTION:
URL:https://stjosephspringfield.org/event/anointing-mass-4/2028-04-07/
END:VEVENT
BEGIN:VEVENT
DTSTART;TZID=America/Chicago:20280505T140000
DTEND;TZID=America/Chicago:20280505T150000
DTSTAMP:20260424T065327
CREATED:20250127T200528Z
LAST-MODIFIED:20260327T180309Z
UID:10006440-1841148000-1841151600@stjosephspringfield.org
SUMMARY:Anointing Mass
DESCRIPTION:
URL:https://stjosephspringfield.org/event/anointing-mass-4/2028-05-05/
END:VEVENT
BEGIN:VEVENT
DTSTART;TZID=America/Chicago:20280602T140000
DTEND;TZID=America/Chicago:20280602T150000
DTSTAMP:20260424T065327
CREATED:20250127T200528Z
LAST-MODIFIED:20260327T180309Z
UID:10006441-1843567200-1843570800@stjosephspringfield.org
SUMMARY:Anointing Mass
DESCRIPTION:
URL:https://stjosephspringfield.org/event/anointing-mass-4/2028-06-02/
END:VEVENT
BEGIN:VEVENT
DTSTART;TZID=America/Chicago:20280707T140000
DTEND;TZID=America/Chicago:20280707T150000
DTSTAMP:20260424T065327
CREATED:20250127T200528Z
LAST-MODIFIED:20260327T180309Z
UID:10006442-1846591200-1846594800@stjosephspringfield.org
SUMMARY:Anointing Mass
DESCRIPTION:
URL:https://stjosephspringfield.org/event/anointing-mass-4/2028-07-07/
END:VEVENT
BEGIN:VEVENT
DTSTART;TZID=America/Chicago:20280804T140000
DTEND;TZID=America/Chicago:20280804T150000
DTSTAMP:20260424T065327
CREATED:20250127T200528Z
LAST-MODIFIED:20260327T180309Z
UID:10006443-1849010400-1849014000@stjosephspringfield.org
SUMMARY:Anointing Mass
DESCRIPTION:
URL:https://stjosephspringfield.org/event/anointing-mass-4/2028-08-04/
END:VEVENT
BEGIN:VEVENT
DTSTART;TZID=America/Chicago:20280901T140000
DTEND;TZID=America/Chicago:20280901T150000
DTSTAMP:20260424T065327
CREATED:20250127T200528Z
LAST-MODIFIED:20260327T180309Z
UID:10006444-1851429600-1851433200@stjosephspringfield.org
SUMMARY:Anointing Mass
DESCRIPTION:
URL:https://stjosephspringfield.org/event/anointing-mass-4/2028-09-01/
END:VEVENT
BEGIN:VEVENT
DTSTART;TZID=America/Chicago:20281006T140000
DTEND;TZID=America/Chicago:20281006T150000
DTSTAMP:20260424T065327
CREATED:20250127T200528Z
LAST-MODIFIED:20260327T180309Z
UID:10006445-1854453600-1854457200@stjosephspringfield.org
SUMMARY:Anointing Mass
DESCRIPTION:
URL:https://stjosephspringfield.org/event/anointing-mass-4/2028-10-06/
END:VEVENT
END:VCALENDAR